BEGIN:VCALENDAR
PRODID:NingEventWidget-v1
VERSION:2.0
METHOD:PUBLISH
BEGIN:VEVENT
UID:4320450:Event:52543
DTSTAMP:20260425T144659Z
SUMMARY:CraftNOW Kickoff, Proclamation, and Artist Reception for Art i
 n City Hall
DESCRIPTION:Following a proclamation event announcing November as Craf
 tMONTH in Philadelphia, CraftNOW will host its annual kickoff in conju
 nction with the artist reception for Crafting Contexts, a juried exhib
 ition in partnership with Art in City Hall and Office of Arts, Culture
  and the Creative Economy that presents craft projects serving as crit
 ical tools to examine culture, immigration, the environment, current e
 vents or institutional traditions.\n\nFor more information visit http:
 //phillytodo.com/events/craftnow-kickoff-proclamation-and-artist-recep
 tion-for-art-in
DTSTART:20171101T210000Z
DTEND:20171102T000000Z
CATEGORIES:kickoff, event
LOCATION:Philadelphia's Historic City Hall
WEBSITE:https://craftnowphila.org/
URL:https://craftnowphila.org/
CONTACT:
ORGANIZER:CraftNOW
ATTACH;FMTTYPE="image/jpeg":http://storage.ning.com/topology/rest/1.0/
 file/get/3055009703?profile=original
ATTENDEE;ROLE=REQ-PARTICIPANT;PARTSTAT=ACCEPTED;RSVP=TRUE;CN="Bryan Ch
 an":http://phillytodo.com/profile/BryanChan
END:VEVENT
END:VCALENDAR
