BEGIN:VCALENDAR
PRODID:NingEventWidget-v1
VERSION:2.0
METHOD:PUBLISH
BEGIN:VEVENT
UID:4320450:Event:75382
DTSTAMP:20260425T114108Z
SUMMARY:CraftNOW Create
DESCRIPTION:Join CraftNOW Create on Saturday, November 7th, for a fami
 ly-friendly, virtual crafting party with live tutorials from participa
 ting crafting organizations. 500, free, take-home kits including suppl
 ies for seven different crafts such as pinch pot animal heads, mini mo
 saics, felted soaps, and more will be available for pickup in late Oct
 ober at various locations throughout Philadelphia. Pickup spots are ma
 pped and featured on the CraftNOW Create website.\nLocation: Zoom – 
 Registration Link: https://us02web.zoom.us/meeting/register/tZwod-qppz
 stGNe0bzd5bYUI2n-jaNbrz5s1\n\nFor more information visit http://philly
 todo.com/events/craftnow-create-4
DTSTART:20201107T150000Z
DTEND:20201107T170000Z
CATEGORIES:crafting, party
LOCATION:Zoom
WEBSITE:https://www.craftnowphila.org/craftnowcreate/
URL:https://www.craftnowphila.org/craftnowcreate/
CONTACT:(215) 717 – 7883
ORGANIZER;CN="Bryan Chan":http://phillytodo.com/profile/BryanChan
ATTACH;FMTTYPE="image/jpeg":https://storage.ning.com/topology/rest/1.0
 /file/get/8031626900?profile=original
ATTENDEE;ROLE=REQ-PARTICIPANT;PARTSTAT=ACCEPTED;RSVP=TRUE;CN="Bryan Ch
 an":http://phillytodo.com/profile/BryanChan
END:VEVENT
END:VCALENDAR
