BEGIN:VCALENDAR
PRODID:NingEventWidget-v1
VERSION:2.0
METHOD:PUBLISH
BEGIN:VEVENT
UID:4320450:Event:59233
DTSTAMP:20260425T123406Z
SUMMARY:CraftNOW Create
DESCRIPTION:Explore free, family-friendly and hands-on activities at t
 he Kimmel Center, including works in clay, wood, textiles and more.\n\
 nFor more information visit http://phillytodo.com/events/craftnow-crea
 te-3
DTSTART:20191109T150000Z
DTEND:20191109T210000Z
CATEGORIES:arts, and, crafts
LOCATION:Kimmel Center
WEBSITE:https://www.craftnowphila.org/craftnowcreate/
URL:https://www.craftnowphila.org/craftnowcreate/
CONTACT:215-717-6135
ORGANIZER:CraftNOW
ATTACH;FMTTYPE="image/jpeg":https://storage.ning.com/topology/rest/1.0
 /file/get/3668656017?profile=original
ATTENDEE;ROLE=REQ-PARTICIPANT;PARTSTAT=ACCEPTED;RSVP=TRUE;CN="Bryan Ch
 an":http://phillytodo.com/profile/BryanChan
END:VEVENT
END:VCALENDAR
