BEGIN:VCALENDAR
PRODID:NingEventWidget-v1
VERSION:2.0
METHOD:PUBLISH
BEGIN:VEVENT
UID:4320450:Event:55961
DTSTAMP:20260425T124850Z
SUMMARY:CraftNOW Create
DESCRIPTION:On Saturday, November 3rd, craft steps out of the studio a
 nd into the heart of Philadelphia with CraftNOW Create, a hands-on exp
 loration of craft at the Kimmel Center. All activities are FREE and fa
 mily friendly. Stop by and join in at any time!\nPresented in partners
 hip with the The Kimmel Center for the Performing Arts. Made possible 
 with funding from Blick Art Materials with additional support from the
  American Craft Council and Freeman's.\n\nFor more information visit h
 ttp://phillytodo.com/events/craftnow-create-1
DTSTART:20181103T150000Z
DTEND:20181103T200000Z
CATEGORIES:fair
LOCATION:The Kimmel Center for the Performing Arts
WEBSITE:http://craftnowphila.org/craftnowcreate/
URL:http://craftnowphila.org/craftnowcreate/
CONTACT:
ORGANIZER;CN="Bryan Chan":http://phillytodo.com/profile/BryanChan
ATTACH;FMTTYPE="image/jpeg":http://storage.ning.com/topology/rest/1.0/
 file/get/3055015565?profile=original
ATTENDEE;ROLE=REQ-PARTICIPANT;PARTSTAT=ACCEPTED;RSVP=TRUE;CN="Bryan Ch
 an":http://phillytodo.com/profile/BryanChan
END:VEVENT
END:VCALENDAR
