BEGIN:VCALENDAR
PRODID:NingEventWidget-v1
VERSION:2.0
METHOD:PUBLISH
BEGIN:VEVENT
UID:4320450:Event:170425
DTSTAMP:20260425T130626Z
SUMMARY:CraftNOW and NextFab present Tools of the Trades
DESCRIPTION:Philadelphia-based organizations CraftNOW and NextFab pres
 ent the inaugural Tools of the Trades, a three-day hybrid conference f
 ocused on connecting artists and makers to business resources, creativ
 e professionals, and peers working in the craft community. Tools of th
 e Trades is a first-of-its-kind event designed to provide creative ent
 repreneurs of all skill levels the tools they need to build their own 
 unique roadmap to success. Tools of the Trades will conclude with an i
 n-person networking event at NextFab’s North Philadelphia location.\
 n\nFor more information visit http://phillytodo.com/events/craftnow-an
 d-nextfab-present-tools-of-the-trades
DTSTART:20220323T130000Z
DTEND:20220326T230000Z
CATEGORIES:conference
LOCATION:Virtual, Closing reception at NextFab
WEBSITE:https://www.toolsofthetrades.org/
URL:https://www.toolsofthetrades.org/
CONTACT:
ORGANIZER:CraftNOW and NextFab
ATTACH;FMTTYPE="image/jpeg":https://storage.ning.com/topology/rest/1.0
 /file/get/10053119256?profile=original
ATTENDEE;ROLE=REQ-PARTICIPANT;PARTSTAT=ACCEPTED;RSVP=TRUE;CN="Bryan Ch
 an":http://phillytodo.com/profile/BryanChan
END:VEVENT
END:VCALENDAR
