BEGIN:VCALENDAR
PRODID:NingEventWidget-v1
VERSION:2.0
METHOD:PUBLISH
BEGIN:VEVENT
UID:4320450:Event:57410
DTSTAMP:20260425T124901Z
SUMMARY:Crafting Your Personal Narrative
DESCRIPTION:Join Tell Me A Story for a three-part workshop experience 
 where, you will use creative tools and techniques to tell a story that
  serves you both personally and professionally. It begins with telling
  your Origin Story. This type of story is a strategic, creative, and m
 eaningful way to answer the question, “How did you get to where you 
 are now?” — whether you run your own business, are looking to tell
  the story of your career path (including its twists and turns), or wa
 nt to find the right balance of strength and vulnerability in your com
 munication.\n\nIn the Small Group Intensive you will brainstorm, draft
 , and share a version of your story with your cohort. In the follow-up
  Story Labs sessions, you will have the chance to digest everything fr
 om the intensive, take in the feedback and continue to fine tune your 
 story, as well as learn from the other stories in your group. By the t
 ime you leave your Story Strategy session, you will have a polished Or
 igin Story and a personalized action plan for bringing it into the wor
 ld — whether as part of a keynote, as a video on your website, or a 
 conversation starter with clients and colleagues.\nThere is power in s
 haring your personal experience.\n\nSpace is limited to 8 participants
  and advance registration is required.\n\n* Small Group Intensive: 3/2
 3/19 from 10am to 4pm\n* Story Labs: 4/3/19 and 4/10/19 from 5:30pm to
  7:00pm\n* Story Strategy Session: April/May one-on-one session to be 
 scheduled at your convenience.\n\nLocation of Small Group Intensive:\n
 The Meeting Space at Fireball, 2644 Coral Street, Philadelphia, PA 191
 25\n(Not wheelchair accessible. Space is on second floor with stair ac
 cess only)\n\nLocation of Story Labs: Online via Zoom video conference
 \n\nLocation of Story Strategy Session:\nWeWork 1601 Market, Philadelp
 hia, PA or Online via Zoom video conference\n\nFor more information vi
 sit http://phillytodo.com/events/crafting-your-personal-narrative
DTSTART:20190323T040000Z
DTEND:20190324T035900Z
CATEGORIES:workshop, "&amp", public, speaking
LOCATION:The Meeting Space at the Fireball
WEBSITE:https://goo.gl/maps/m2jdu2mJjMy
URL:https://goo.gl/maps/m2jdu2mJjMy
CONTACT:267-797-8627
ORGANIZER;CN="Hillary Rea":http://phillytodo.com/profile/HillaryRea
ATTACH;FMTTYPE="image/jpeg":
ATTENDEE;ROLE=REQ-PARTICIPANT;PARTSTAT=ACCEPTED;RSVP=TRUE;CN="Hillary 
 Rea":http://phillytodo.com/profile/HillaryRea
END:VEVENT
END:VCALENDAR
