BEGIN:VCALENDAR
PRODID:NingEventWidget-v1
VERSION:2.0
METHOD:PUBLISH
BEGIN:VEVENT
UID:4320450:Event:37614
DTSTAMP:20260425T175134Z
SUMMARY:Craft Phila
DESCRIPTION:Craft Phila is holding its first fall juried craft show lo
 cated at Philadelphia’s most historic and iconic monuments. On Satur
 day, September 13, 10 a.m. – 7 p.m. and Sunday, September 14, 10 a.m
 . – 5 p.m., the event will be held at the epicenter of American hist
 ory, staged under tents facing and adjacent to the Liberty Bell Pavili
 on and historic Independence Mall. \n\nFor more information visit htt
 p://phillytodo.com/events/craft-phila
DTSTART:20140913T140000Z
DTEND:20140914T210000Z
CATEGORIES:festival, craft, fair
LOCATION:6th Street between Market and Chestnut and on Chestnut Street
  between 6th and 7th
WEBSITE:http://www.craftphila.org
URL:http://www.craftphila.org
CONTACT:
ORGANIZER:
ATTACH;FMTTYPE="image/jpeg":http://storage.ning.com/topology/rest/1.0/
 file/get/3054977637?profile=original
ATTENDEE;ROLE=REQ-PARTICIPANT;PARTSTAT=ACCEPTED;RSVP=TRUE;CN="Paige Wo
 lf":http://phillytodo.com/profile/PaigeWolf
END:VEVENT
END:VCALENDAR
