BEGIN:VCALENDAR
PRODID:NingEventWidget-v1
VERSION:2.0
METHOD:PUBLISH
BEGIN:VEVENT
UID:4320450:Event:40865
DTSTAMP:20260425T144334Z
SUMMARY:CRAFT PHILA - Liberty Bell Fair
DESCRIPTION:Craft Phila - Liberty Bell Fair presents an open-air artis
 t and makers fair on Saturday, May 16 (10am-7pm) and Sunday, May 17, 2
 015 (10am-5pm) at Sixth and Market streets. Celebrate USA hand-made cr
 aft, visual art and fashion at America's epicenter in historic Philade
 lphia. Meet dozens of the country’s best independent artists while y
 ou shop for wearable, functional and decorative wares. Enjoy delicious
  bites from Philadelphia’s top food trucks and artisan food vendors.
  Sip on craft brews and play old-fashioned games at the adjacent Indep
 endence Beer Garden. Enjoy free entertainment each afternoon with musi
 cians and performers. Make take-away art with the children and enter t
 o win free prizes. Stay watch for other surprises to be announced. Tak
 e in an afternoon of art, history and beauty during our second season 
 in Old City District. For more information, visit www.craftphila.org o
 r call 267-679-3121.\n\nFor more information visit http://phillytodo.c
 om/events/craft-phila-liberty-bell-fair
DTSTART:20150516T140000Z
DTEND:20150516T230000Z
CATEGORIES:craft, fair
LOCATION:6th to 7th Street between Chestnut and Market
WEBSITE:http://www.craftphila.org/
URL:http://www.craftphila.org/
CONTACT:2676793121
ORGANIZER;CN="Aversa PR & Events":http://phillytodo.com/profile/KoryAv
 ersa277
ATTACH;FMTTYPE="image/jpeg":http://storage.ning.com/topology/rest/1.0/
 file/get/3054987414?profile=original
ATTENDEE;ROLE=REQ-PARTICIPANT;PARTSTAT=ACCEPTED;RSVP=TRUE;CN="Aversa P
 R & Events":http://phillytodo.com/profile/KoryAversa277
END:VEVENT
END:VCALENDAR
