BEGIN:VCALENDAR
PRODID:NingEventWidget-v1
VERSION:2.0
METHOD:PUBLISH
BEGIN:VEVENT
UID:4320450:Event:47261
DTSTAMP:20260425T123404Z
SUMMARY:Craft NOW Create
DESCRIPTION:Families are invited to take part in this free and family-
 friendly event at the Kimmel Center. Activities and demonstrations, pr
 esented by the area’s top studios and institutions, include a wooden
  whistle workshop, a tutorial on knitting, and a head-to-head battle o
 f artists on pottery wheels.\n\nFor more information visit http://phil
 lytodo.com/events/craft-now-create-1
DTSTART:20161112T160000Z
DTEND:20161112T210000Z
CATEGORIES:family-friendly, event
LOCATION:Kimmel Center
WEBSITE:https://craftnowphila.org/craftnowcreate/
URL:https://craftnowphila.org/craftnowcreate/
CONTACT:
ORGANIZER;CN="Bryan Chan":http://phillytodo.com/profile/BryanChan
ATTACH;FMTTYPE="image/jpeg":http://storage.ning.com/topology/rest/1.0/
 file/get/3054998747?profile=original
ATTENDEE;ROLE=REQ-PARTICIPANT;PARTSTAT=ACCEPTED;RSVP=TRUE;CN="Bryan Ch
 an":http://phillytodo.com/profile/BryanChan
END:VEVENT
END:VCALENDAR
