BEGIN:VCALENDAR
PRODID:NingEventWidget-v1
VERSION:2.0
METHOD:PUBLISH
BEGIN:VEVENT
UID:4320450:Event:48216
DTSTAMP:20260425T124842Z
SUMMARY:CRAFT FORMS 2016 AND MAKING MARKS LECTURES
DESCRIPTION:Stefano Catalani (Executive Director of Gage Academy of Ar
 t and former Director of Art, Craft, & Design at Bellevue Arts Museum)
  and Mi-Kyoung Lee (Associate Professor, Director of Craft + Material 
 Studies Program and Coordinator of Fibers and Textile Studies at The U
 niversity of the Arts) and selected craft artists from around the Unit
 ed States and abroad discuss contemporary craft techniques in ceramics
 , wood, fiber, glass, mixed medium and 3-D printing.\n\nFor more infor
 mation visit http://phillytodo.com/events/craft-forms-2016-and-making-
 marks-lectures
DTSTART:20161203T180000Z
DTEND:20161203T210000Z
CATEGORIES:lectures
LOCATION:Wayne Art Center
WEBSITE:http://craftnowphila.org
URL:http://craftnowphila.org
CONTACT:6106883553
ORGANIZER:Craft NOW
ATTACH;FMTTYPE="image/jpeg":http://storage.ning.com/topology/rest/1.0/
 file/get/3054998321?profile=original
ATTENDEE;ROLE=REQ-PARTICIPANT;PARTSTAT=ACCEPTED;RSVP=TRUE;CN="Bryan Ch
 an":http://phillytodo.com/profile/BryanChan
END:VEVENT
END:VCALENDAR
