BEGIN:VCALENDAR
PRODID:NingEventWidget-v1
VERSION:2.0
METHOD:PUBLISH
BEGIN:VEVENT
UID:4320450:Event:46978
DTSTAMP:20260425T123652Z
SUMMARY:Craft & Craft at The Logan Hotel
DESCRIPTION:Enjoy arts & crafts with craft beers and cocktails! Octobe
 rfest’s “Craft & Craft” event at The Logan, Philadelphia’s Hot
 el infuses artsy crafts & craft beer and cocktails at this hands-on wo
 rkshop led by crafter Regina Latella. Guests will have the chance to c
 reate their own handmade cards and envelopes using vintage wallpaper, 
 alongside craft beers and cocktails available for purchase.\n\nFor mor
 e information visit http://phillytodo.com/events/craft-craft-at-the-lo
 gan-hotel
DTSTART:20161020T210000Z
DTEND:20161020T230000Z
CATEGORIES:craft, workshop, cocktails
LOCATION:The Grange Room at The Logan Hotel
WEBSITE:http://www.theloganhotel.com/craft/
URL:http://www.theloganhotel.com/craft/
CONTACT:2156271060
ORGANIZER;CN=CashmanAssoc:http://phillytodo.com/profile/CashmanAssoc
ATTACH;FMTTYPE="image/jpeg":http://storage.ning.com/topology/rest/1.0/
 file/get/3054998312?profile=original
ATTENDEE;ROLE=REQ-PARTICIPANT;PARTSTAT=ACCEPTED;RSVP=TRUE;CN=CashmanAs
 soc:http://phillytodo.com/profile/CashmanAssoc
END:VEVENT
END:VCALENDAR
