BEGIN:VCALENDAR
PRODID:NingEventWidget-v1
VERSION:2.0
METHOD:PUBLISH
BEGIN:VEVENT
UID:4320450:Event:13803
DTSTAMP:20260425T193011Z
SUMMARY:Craft Beer Bus tour, Philly
DESCRIPTION:This event is our first CBB tour to Philadelphia.  Join u
 s for a tour of Manayunk, Yards and Triumph breweries and samples of t
 heir delicious brew while getting a V.I.P., behind the scenes tour of 
 each facility.On this tour we have two pick up sites.  Are you alread
 y in Philly? Then meet the bus at the Manayunk Brewing Company. In the
  suburbs? Then meet us at the Craft Ale House in Limerick, PA. After t
 he tour we will drop you back where we picked you up. The city and the
  suburbs will be together at last!Snacks and water and Quizzo provided
  on the bus.  Our beer stops include the Manayunk Brewing Company, Ya
 rds Brewing and a third surprise stop!\nUSA Veterans, email us for a 1
 0% discount!\n\nFor more information visit http://phillytodo.com/event
 s/craft-beer-bus-tour-philly
DTSTART:20110709T150000Z
DTEND:20110709T220000Z
CATEGORIES:craft, beer, bus, tour
LOCATION:Manayunk, Yards, Triumph Breweries
WEBSITE:http://www.craftbeerbus.com
URL:http://www.craftbeerbus.com
CONTACT:267-372-2029
ORGANIZER;CN="David Sauls":http://phillytodo.com/profile/DavidSauls
ATTACH;FMTTYPE="image/jpeg":http://storage.ning.com/topology/rest/1.0/
 file/get/3054958053?profile=original
ATTENDEE;ROLE=REQ-PARTICIPANT;PARTSTAT=ACCEPTED;RSVP=TRUE;CN="David Sa
 uls":http://phillytodo.com/profile/DavidSauls
END:VEVENT
END:VCALENDAR
