BEGIN:VCALENDAR
PRODID:NingEventWidget-v1
VERSION:2.0
METHOD:PUBLISH
BEGIN:VEVENT
UID:4320450:Event:17709
DTSTAMP:20260425T163453Z
SUMMARY:Craft Beer Bus to Beersgiving Beer Festival
DESCRIPTION:The Craft Beer Bus is heading to the first ever Beersgivin
 g Beer Fest! The bus will run from Philadelphia, Lansdale and Reading 
 PA!\nBeersgiving, held in the ballroom at Sunnybrook in Pottstown, PA,
  a celebration of the season's beer and food, features over 40 differe
 nt craft breweries from all over the country.\nYour Craft Beer Bus tic
 ket price is all inclusive and provides you with a carefree bus ride t
 o the beer fest from one of our three pick up points, entry into the b
 eer fest, all the beer you can consume while at the beer fest and a sa
 fe, fun ride home.  Just chose the ticket option/pick up spot from th
 e city you want to travel from, Philly, Reading or Lansdale, PA.\nArri
 ve early and enjoy a beer or two and some lunch before the Craft Beer 
 Bus arrives to make this a full day of beer heaven! \nWhat more could 
 you ask for??  No driving, no parking hassles - just an enjoyable rid
 e to PA's newest beer event with other craft beer aficionados!  Did I
  mention there's BEER?\n\nFor more information visit http://phillytodo
 .com/events/craft-beer-bus-to-beersgiving-beer-festival
DTSTART:20111119T180000Z
DTEND:20111120T000000Z
CATEGORIES:beer, festival
LOCATION:Pick up at Bridgewater's, 30th St. Station, Philly
WEBSITE:
URL:
CONTACT:
ORGANIZER;CN="David Sauls":http://phillytodo.com/profile/DavidSauls
ATTACH;FMTTYPE="image/jpeg":http://storage.ning.com/topology/rest/1.0/
 file/get/3054957754?profile=original
ATTENDEE;ROLE=REQ-PARTICIPANT;PARTSTAT=ACCEPTED;RSVP=TRUE;CN="David Sa
 uls":http://phillytodo.com/profile/DavidSauls
END:VEVENT
END:VCALENDAR
