BEGIN:VCALENDAR
PRODID:NingEventWidget-v1
VERSION:2.0
METHOD:PUBLISH
BEGIN:VEVENT
UID:4320450:Event:813
DTSTAMP:20260425T155039Z
SUMMARY:Courage Pills at Doc Watson's
DESCRIPTION:Courage Pills play at Doc Watson's in Philly.\n\nFor more 
 information visit http://phillytodo.com/events/courage-pills-at-doc-wa
 tsons
DTSTART:20100118T010000Z
DTEND:20100118T014500Z
CATEGORIES:show
LOCATION:Doc Watson's
WEBSITE:http://maps.google.com/maps?hl=en&source=hp&q=dr.%20watson%27s
 %20philadelphia&um=1&ie=UTF-8&sa=N&tab=wl
URL:http://maps.google.com/maps?hl=en&source=hp&q=dr.%20watson%27s%20p
 hiladelphia&um=1&ie=UTF-8&sa=N&tab=wl
CONTACT:215 922 3427
ORGANIZER;CN="Joseph Morrell":http://phillytodo.com/profile/JosephMorr
 ell
ATTACH;FMTTYPE="image/jpeg":http://storage.ning.com/topology/rest/1.0/
 file/get/3054945623?profile=original
ATTENDEE;ROLE=REQ-PARTICIPANT;PARTSTAT=ACCEPTED;RSVP=TRUE;CN="Joseph M
 orrell":http://phillytodo.com/profile/JosephMorrell
END:VEVENT
END:VCALENDAR
