BEGIN:VCALENDAR
PRODID:NingEventWidget-v1
VERSION:2.0
METHOD:PUBLISH
BEGIN:VEVENT
UID:4320450:Event:43903
DTSTAMP:20260425T124844Z
SUMMARY:Countdown to Noon
DESCRIPTION:Counting down to midnight is tough for kids. Instead, rin
 g in the New Year with them at Please Touch Museum’s Countdown to No
 on event! Celebrate with music, dancing, activities and tons of confe
 tti! There will be two countdowns at 11:45am and 12:45pm.\n \nNon-me
 mbers are welcomed to Early Bird Advance Tickets for $20 from December
  7th through December 18th. Advanced Ticket sales continue through Dec
 ember 31st at $25. Members celebrate for free!\n \n\nFor more informa
 tion visit http://phillytodo.com/events/countdown-to-noon
DTSTART:20151231T140000Z
DTEND:20151231T200000Z
CATEGORIES:new, years, eve, celebration
LOCATION:Please Touch Museum
WEBSITE:http://www.pleasetouchmuseum.org/event/countdown2noon2015/
URL:http://www.pleasetouchmuseum.org/event/countdown2noon2015/
CONTACT:215-627-1060
ORGANIZER:Cashman & Associates
ATTACH;FMTTYPE="image/jpeg":http://storage.ning.com/topology/rest/1.0/
 file/get/3054993640?profile=original
ATTENDEE;ROLE=REQ-PARTICIPANT;PARTSTAT=ACCEPTED;RSVP=TRUE;CN=CashmanAs
 soc:http://phillytodo.com/profile/CashmanAssoc
END:VEVENT
END:VCALENDAR
