BEGIN:VCALENDAR
PRODID:NingEventWidget-v1
VERSION:2.0
METHOD:PUBLISH
BEGIN:VEVENT
UID:4320450:Event:29907
DTSTAMP:20260425T160801Z
SUMMARY:Cosmobilities
DESCRIPTION:Rowan University Art Gallery welcomes upcoming exhibit Cos
 mobilities. The show brings together international artists’ in tradi
 tional and experimental media to relate themes of mobility/immobility 
 in a global context. Cosmobilities is on display from March 25 through
  May 11, 2013 with a reception on Thursday, March 28, 5 - 7 p.m.\n \n
 Using multi-media installations including paintings, sculpture, fabric
  panels and video, drawings and photography that result from public ac
 tion the artists examine the accessibility, demobilization, geography,
  geology and ecological change in the world.\n\nFor more information v
 isit http://phillytodo.com/events/cosmobilities
DTSTART:20130328T210000Z
DTEND:20130328T230000Z
CATEGORIES:art, gallery, exhibit
LOCATION:Rowan University Art Gallery
WEBSITE:http://Rowan.edu/artgallery
URL:http://Rowan.edu/artgallery
CONTACT:(856)-256-4521
ORGANIZER:Mary salvante
ATTACH;FMTTYPE="image/jpeg":http://storage.ning.com/topology/rest/1.0/
 file/get/3054962800?profile=original
ATTENDEE;ROLE=REQ-PARTICIPANT;PARTSTAT=ACCEPTED;RSVP=TRUE;CN="mary sal
 vante":http://phillytodo.com/profile/marysalvante
END:VEVENT
END:VCALENDAR
