BEGIN:VCALENDAR
PRODID:NingEventWidget-v1
VERSION:2.0
METHOD:PUBLISH
BEGIN:VEVENT
UID:4320450:Event:1563
DTSTAMP:20260425T144303Z
SUMMARY:Core Strength Optimization :: \"Core SO\" Vinyasa workshop w/ 
 Hadji 5/23
DESCRIPTION:This 2 hour workshop will transform your body with a Core 
 Strengthening Vinyasa flow! You will be guided through a practice that
  will engage the core to find your \"edge\" in each asana. The informa
 tion you receive will redefine your current definition of what the cor
 e is and how to access it!\n\nPrice $30\n\nFor more information visit 
 http://phillytodo.com/events/core-strength-optimization
DTSTART:20100523T170000Z
DTEND:20100523T190000Z
CATEGORIES:vinyasa, workshop
LOCATION:Dhyana Yoga Rittenhouse - 1611 Walnut Street
WEBSITE:
URL:
CONTACT:
ORGANIZER;CN="Dhyana Yoga":http://phillytodo.com/profile/DhyanaYoga
ATTACH;FMTTYPE="image/jpeg":http://storage.ning.com/topology/rest/1.0/
 file/get/3054949977?profile=original
ATTENDEE;ROLE=REQ-PARTICIPANT;PARTSTAT=ACCEPTED;RSVP=TRUE;CN="Dhyana Y
 oga":http://phillytodo.com/profile/DhyanaYoga
END:VEVENT
END:VCALENDAR
