BEGIN:VCALENDAR
PRODID:NingEventWidget-v1
VERSION:2.0
METHOD:PUBLISH
BEGIN:VEVENT
UID:4320450:Event:2555
DTSTAMP:20260425T173456Z
SUMMARY:Cops & Kids - South Philly High
DESCRIPTION:Join us for the dedication of this exhibit of window panel
 s created by students in the Cops & Kids Program at SPHS, in conjuncti
 on with the 3rd Police District. Sponsored by the City of Phildelphia 
 Department of Human Services (DHS).\n\nFor more information visit http
 ://phillytodo.com/events/cops-kids-south-philly-high
DTSTART:20101021T190000Z
DTEND:20101021T200000Z
CATEGORIES:exhibit
LOCATION:3rd Police District Building, 11th & Wharton Streets
WEBSITE:
URL:
CONTACT:
ORGANIZER;CN="Jenn McCreary":http://phillytodo.com/profile/JennMcCrear
 y
ATTACH;FMTTYPE="image/jpeg":
ATTENDEE;ROLE=REQ-PARTICIPANT;PARTSTAT=ACCEPTED;RSVP=TRUE;CN="Jenn McC
 reary":http://phillytodo.com/profile/JennMcCreary
END:VEVENT
END:VCALENDAR
