BEGIN:VCALENDAR
PRODID:NingEventWidget-v1
VERSION:2.0
METHOD:PUBLISH
BEGIN:VEVENT
UID:4320450:Event:45255
DTSTAMP:20260425T130825Z
SUMMARY:Coors Light Virtual Reality Tour at PJ Whelihan's Blue Bell
DESCRIPTION:Coors Light is more than just the Philadelphia’s most re
 freshing beer, it's an experience! Join us for a Coors Light Virtual r
 eality Adventure as we visit the best bars & restaurants in the Philad
 elphia, New Jersey, and Delaware.  CLIMB ON with Coors Light as we bri
 ng an outdoor adventure right into the bar. Enjoy Coors Light specials
  and enter for your chance to win a snowboard and other adventure insp
 ired gear.  It all starts in March, as we take over 30+ of the area’
 s best bars and hottest venues!   #CoorsLight #ClimbOn\nhttp://www.c
 oorslightadventure.com/?ref=ptodo\n\nFor more information visit http:/
 /phillytodo.com/events/coors-light-virtual-reality-tour-at-pj-whelihan
 -s-blue-bell
DTSTART:20160313T030000Z
DTEND:20160313T050000Z
CATEGORIES:coors, light, party
LOCATION:PJ Whelihan's Blue Bell
WEBSITE:http://www.coorslightadventure.com/?ref=ptodo
URL:http://www.coorslightadventure.com/?ref=ptodo
CONTACT:215.966.1535
ORGANIZER;CN="UpcomingEvents.com":http://phillytodo.com/profile/Upcomi
 ngEventscom
ATTACH;FMTTYPE="image/jpeg":
ATTENDEE;ROLE=REQ-PARTICIPANT;PARTSTAT=ACCEPTED;RSVP=TRUE;CN="Upcoming
 Events.com":http://phillytodo.com/profile/UpcomingEventscom
END:VEVENT
END:VCALENDAR
