BEGIN:VCALENDAR
PRODID:NingEventWidget-v1
VERSION:2.0
METHOD:PUBLISH
BEGIN:VEVENT
UID:4320450:Event:45253
DTSTAMP:20260425T142910Z
SUMMARY:Coors Light Virtual Reality Tour at Hangtime Bar & Grille
DESCRIPTION:Coors Light is more than just the Philadelphia’s most re
 freshing beer, it's an experience! Join us for a Coors Light Virtual r
 eality Adventure as we visit the best bars & restaurants in the Philad
 elphia, New Jersey, and Delaware.CLIMB ON with Coors Light as we bring
  an outdoor adventure right into the bar. Enjoy Coors Light specials a
 nd enter for your chance to win a snowboard and other adventure inspir
 ed gear.It all starts in March, as we take over 30+ of the area’s be
 st bars and hottest venues! #CoorsLight #ClimbOn\nhttp://www.coorsli
 ghtadventure.com/?ref=ptodo\n\nFor more information visit http://phill
 ytodo.com/events/coors-light-virtual-reality-tour-at-hangtime-bar-gril
 le
DTSTART:20160311T010000Z
DTEND:20160311T030000Z
CATEGORIES:coors, light, party
LOCATION:Hangtime Bar & Grille
WEBSITE:http://www.coorslightadventure.com/?ref=ptodo
URL:http://www.coorslightadventure.com/?ref=ptodo
CONTACT:215.966.1535
ORGANIZER;CN="UpcomingEvents.com":http://phillytodo.com/profile/Upcomi
 ngEventscom
ATTACH;FMTTYPE="image/jpeg":http://storage.ning.com/topology/rest/1.0/
 file/get/3054994753?profile=original
ATTENDEE;ROLE=REQ-PARTICIPANT;PARTSTAT=ACCEPTED;RSVP=TRUE;CN="Upcoming
 Events.com":http://phillytodo.com/profile/UpcomingEventscom
END:VEVENT
END:VCALENDAR
