BEGIN:VCALENDAR
PRODID:NingEventWidget-v1
VERSION:2.0
METHOD:PUBLISH
BEGIN:VEVENT
UID:4320450:Event:158018
DTSTAMP:20260425T191501Z
SUMMARY:Conversations in Exile with Dominic A. Sisti, PhD and Martine 
 Kieffer, MSW, LCSW
DESCRIPTION:Dominic A. Sisti is assistant professor and director of th
 e Scattergood Program for the Applied Ethics of Behavioral Healthcare 
 in the Department of Medical Ethics & Health Policy. Martine Kieffer, 
 MSW, LCSW is a social worker who works in Trauma, Addiction, and Spiri
 tual issues. They will explore the mental health effects of working in
  content moderation for social media platforms. The conversation will 
 be moderated by Theatre Exile Interim Associate Artistic Director, Bre
 y Ann Barrett.\n\n\n\nFor more information visit http://phillytodo.com
 /events/conversations-in-exile-with-dominic-a-sisti-phd-and-martine
DTSTART:20210223T003000Z
DTEND:20210223T013000Z
CATEGORIES:theatre
LOCATION:Zoom - Virtual
WEBSITE:https://us02web.zoom.us/webinar/register/WN_Pt_Xjo0FS2aKDUYG8l
 6ekw
URL:https://us02web.zoom.us/webinar/register/WN_Pt_Xjo0FS2aKDUYG8l6ekw
CONTACT:
ORGANIZER:Theatre Exile
ATTACH;FMTTYPE="image/jpeg":
ATTENDEE;ROLE=REQ-PARTICIPANT;PARTSTAT=ACCEPTED;RSVP=TRUE;CN="Bryan Ch
 an":http://phillytodo.com/profile/BryanChan
END:VEVENT
END:VCALENDAR
