BEGIN:VCALENDAR
PRODID:NingEventWidget-v1
VERSION:2.0
METHOD:PUBLISH
BEGIN:VEVENT
UID:4320450:Event:60812
DTSTAMP:20260425T125155Z
SUMMARY:“Conversations in Exile:” Sportscaster and Playwright Ray 
 Didinger
DESCRIPTION:Join Theatre Exile on Thursday, August 13, for the “Conv
 ersations in Exile” series featuring playwright, sports journalist, 
 and NFL Hall of Famer, Ray Didinger. Theatre Exile Producing Artistic 
 Director Deborah Block will lead the conversation focusing on Ray’s 
 process for writing the production, “Tommy and Me.” The show is au
 tobiographical and recounts a seminal time in Didinger’s life as he 
 helps his life-long hero, Tommy McDonald, reach his goal of getting in
 to the Pro Football Hall of Fame. Didinger will also discuss his thoug
 hts on the parallels between sports and theater and take questions fro
 m the audience.\n\nFor more information visit http://phillytodo.com/ev
 ents/conversations-in-exile-sportscaster-amp-playwright-ray-didinger
DTSTART:20200813T233000Z
DTEND:20200814T003000Z
CATEGORIES:virtual, artist, discussion
LOCATION:Zoom
WEBSITE:https://theatreexile.org/exiled-with-exile/
URL:https://theatreexile.org/exiled-with-exile/
CONTACT:215-218-4022
ORGANIZER;CN="Bryan Chan":http://phillytodo.com/profile/BryanChan
ATTACH;FMTTYPE="image/jpeg":https://storage.ning.com/topology/rest/1.0
 /file/get/7221305052?profile=original
ATTENDEE;ROLE=REQ-PARTICIPANT;PARTSTAT=ACCEPTED;RSVP=TRUE;CN="Bryan Ch
 an":http://phillytodo.com/profile/BryanChan
END:VEVENT
END:VCALENDAR
