BEGIN:VCALENDAR
PRODID:NingEventWidget-v1
VERSION:2.0
METHOD:PUBLISH
BEGIN:VEVENT
UID:4320450:Event:55105
DTSTAMP:20260425T115209Z
SUMMARY:Container Gardening at Greensgrow West
DESCRIPTION:Now’s the time to plant your annual containers to enjoy 
 for the entire summer! Join container specialist Lee at Greensgrow Wes
 t on Friday, May 11 from 6pm – 8pm to learn step-by-step how to desi
 gn a container with herbs and annual flowers. You’ll talk soil, ligh
 t, position, care and maintenance for your particular container and co
 nditions.\n \nCost for this workshop is $45* and registration is requ
 ired. You’ll get hands-on planting your own container while you lear
 n Greensgrow’s filler, spiller and thriller method. A terracotta bow
 l (12-14”), annual plants and soil are included. Bring gloves if you
  have them.\n \nThis workshop is at Greensgrow West. The same class w
 ith a different instructor is being offered at Greensgrow Farms on Apr
 il 28; click here for more information.\n \n*PLEASE NOTE: Cancellat
 ions within 72 hours of the start of class are nonrefundable or transf
 erable. Workshop refunds and transfers requested earlier than 72 hours
  before the class start time will be charged a $5.00 processing fee.\n
  \nFor more information, visit http://www.greensgrow.org/event/contai
 ner-gardening-2/.\n \n \n\nFor more information visit http://phillyt
 odo.com/events/container-gardening-at-greensgrow-west
DTSTART:20180511T220000Z
DTEND:20180512T000000Z
CATEGORIES:workshop
LOCATION:Greensgrow West
WEBSITE:http://www.greensgrow.org/event/container-gardening-2/
URL:http://www.greensgrow.org/event/container-gardening-2/
CONTACT:215-427-2780
ORGANIZER;CN="Greensgrow Farms":http://phillytodo.com/profile/Greensgr
 owFarms
ATTACH;FMTTYPE="image/jpeg":
ATTENDEE;ROLE=REQ-PARTICIPANT;PARTSTAT=ACCEPTED;RSVP=TRUE;CN="Greensgr
 ow Farms":http://phillytodo.com/profile/GreensgrowFarms
END:VEVENT
END:VCALENDAR
