BEGIN:VCALENDAR
PRODID:NingEventWidget-v1
VERSION:2.0
METHOD:PUBLISH
BEGIN:VEVENT
UID:4320450:Event:54786
DTSTAMP:20260425T130818Z
SUMMARY:Container Gardening at Greensgrow Farms
DESCRIPTION:Now’s the time to plant your annual containers to enjoy 
 for the entire summer! Join the container specialist at Greensgrow Far
 ms on Saturday, April 28 from 12pm – 2pm to learn step-by-step how t
 o design a container with herbs and annual flowers. You’ll talk soil
 , light, position, care and maintenance for your particular container 
 and conditions.\n \nCost for this workshop is $45* and registration i
 s required. You’ll get hands-on planting your own container while yo
 u learn Greensgrow’s filler, spiller and thriller method. A terracot
 ta bowl (12-14”), annual plants and soil are included. Bring gloves 
 if you have them.\n \nThis workshop is at Greensgrow Farms. The same 
 class with a different instructor is being offered at Greensgrow West 
 on May 11; click here for more information.\n \n*PLEASE NOTE: Cancell
 ations within 72 hours of the start of class are nonrefundable or tran
 sferable. Workshop refunds and transfers requested earlier than 72 hou
 rs before the class start time will be charged a $5.00 processing fee.
 \n \nFor more information, visit http://www.greensgrow.org/event/cont
 ainer-gardening-greensgrow-farms/\n\nFor more information visit http:/
 /phillytodo.com/events/container-gardening-at-greensgrow-farms
DTSTART:20180428T160000Z
DTEND:20180428T180000Z
CATEGORIES:workshop
LOCATION:Greensgrow Farms
WEBSITE:http://www.greensgrow.org/event/container-gardening-greensgrow
 -farms/
URL:http://www.greensgrow.org/event/container-gardening-greensgrow-far
 ms/
CONTACT:215-427-2780
ORGANIZER;CN="Greensgrow Farms":http://phillytodo.com/profile/Greensgr
 owFarms
ATTACH;FMTTYPE="image/jpeg":http://storage.ning.com/topology/rest/1.0/
 file/get/3055011165?profile=original
ATTENDEE;ROLE=REQ-PARTICIPANT;PARTSTAT=ACCEPTED;RSVP=TRUE;CN="Greensgr
 ow Farms":http://phillytodo.com/profile/GreensgrowFarms
END:VEVENT
END:VCALENDAR
