BEGIN:VCALENDAR
PRODID:NingEventWidget-v1
VERSION:2.0
METHOD:PUBLISH
BEGIN:VEVENT
UID:4320450:Event:59116
DTSTAMP:20260425T112512Z
SUMMARY:Concord Corvette Show
DESCRIPTION:Vroom vroom! The Corvette Club of Delaware Valley's Corvet
 te Show returns to the Concord Mall on Sunday, October 27. Stop by to 
 check out the Corvettes and custom cars.\n\nFor more information visit
  http://phillytodo.com/events/concord-corvette-show
DTSTART:20191027T150000Z
DTEND:20191027T220000Z
CATEGORIES:car, show
LOCATION:Concord Mall
WEBSITE:https://www.facebook.com/events/2396045997382807/
URL:https://www.facebook.com/events/2396045997382807/
CONTACT:2156271060
ORGANIZER;CN=CashmanAssoc:http://phillytodo.com/profile/CashmanAssoc
ATTACH;FMTTYPE="image/jpeg":
ATTENDEE;ROLE=REQ-PARTICIPANT;PARTSTAT=ACCEPTED;RSVP=TRUE;CN=CashmanAs
 soc:http://phillytodo.com/profile/CashmanAssoc
END:VEVENT
END:VCALENDAR
