BEGIN:VCALENDAR
PRODID:NingEventWidget-v1
VERSION:2.0
METHOD:PUBLISH
BEGIN:VEVENT
UID:4320450:Event:2947
DTSTAMP:20260425T173508Z
SUMMARY:Concert at Alden Park
DESCRIPTION:Free concert with refreshments at historic luxury apartmen
 t community Alden Park. Concert will take place in Manor hall where me
 mbers of the Philadelphia Orchestra and Blue Mountain Festival will pe
 rform. Due to limited seating, RSVP is required.\n\nPlease contact She
 ila at 215-844-7900 or send an email to info@aldenparkapts.com\n\nFor 
 more information visit http://phillytodo.com/events/concert-at-alden-p
 ark
DTSTART:20101113T181500Z
DTEND:20101113T210000Z
CATEGORIES:concert
LOCATION:Alden Park Manor Hall
WEBSITE:http://www.aldenparkapts.com
URL:http://www.aldenparkapts.com
CONTACT:215-844-7900
ORGANIZER:
ATTACH;FMTTYPE="image/jpeg":http://storage.ning.com/topology/rest/1.0/
 file/get/3054950774?profile=original
ATTENDEE;ROLE=REQ-PARTICIPANT;PARTSTAT=ACCEPTED;RSVP=TRUE;CN="Alden Pa
 rk Apartments":http://phillytodo.com/profile/AldenParkApartments
END:VEVENT
END:VCALENDAR
