BEGIN:VCALENDAR
PRODID:NingEventWidget-v1
VERSION:2.0
METHOD:PUBLISH
BEGIN:VEVENT
UID:4320450:Event:2532
DTSTAMP:20260425T160115Z
SUMMARY:Community Paint Day: How Philly Moves
DESCRIPTION:Roll up your sleeves and particpate in the creation of thi
 s 50,000 square foot mural by helping to paint panels that highlight P
 hiladelphians dancing. No painting experience necessary; all supplies 
 provided.\n\nHow Philly Moves is sponsored by Philadelphia Internation
 al Airport, Philadelphia Parking Authority, Bank of America, and US Ai
 rways.\n\nStudio space at The Gallery at Market East donated by Pennsy
 lvania Real Estate Investment Trust (PREIT).\n\nFor more information v
 isit http://phillytodo.com/events/community-paint-day-how-philly
DTSTART:20101009T160000Z
DTEND:20101009T220000Z
CATEGORIES:community, paint, day
LOCATION:The Gallery at Market East
WEBSITE:
URL:
CONTACT:
ORGANIZER;CN="Jenn McCreary":http://phillytodo.com/profile/JennMcCrear
 y
ATTACH;FMTTYPE="image/jpeg":http://storage.ning.com/topology/rest/1.0/
 file/get/3054950756?profile=original
ATTENDEE;ROLE=REQ-PARTICIPANT;PARTSTAT=ACCEPTED;RSVP=TRUE;CN="Jenn McC
 reary":http://phillytodo.com/profile/JennMcCreary
END:VEVENT
END:VCALENDAR
