BEGIN:VCALENDAR
PRODID:NingEventWidget-v1
VERSION:2.0
METHOD:PUBLISH
BEGIN:VEVENT
UID:4320450:Event:35907
DTSTAMP:20260425T160041Z
SUMMARY:Community Garden Days
DESCRIPTION:his year Greensgrow’s Community Garden Days are April 27
 , May 18 & 25. Come out to Greensgrow on one of these Sundays this Spr
 ing to get goods for your garden. Community Gardeners will receive 10%
  off of purchases made for their community garden. Your garden must be
  preregistered to receive the discount at the time of purchase. Discou
 nt applies to nursery items only–produce and other food items are no
 t included.\nRegister your garden here: http://www.greensgrow.org/even
 t/community-garden-days-4/\n\nFor more information visit http://philly
 todo.com/events/community-garden-days
DTSTART:20140427T140000Z
DTEND:20140427T200000Z
CATEGORIES:community, garden, benefit
LOCATION:Greensgrow Farms
WEBSITE:http://www.greensgrow.org
URL:http://www.greensgrow.org
CONTACT:215-427-2702
ORGANIZER;CN="Greensgrow Farms":http://phillytodo.com/profile/Greensgr
 owFarms
ATTACH;FMTTYPE="image/jpeg":
ATTENDEE;ROLE=REQ-PARTICIPANT;PARTSTAT=ACCEPTED;RSVP=TRUE;CN="Greensgr
 ow Farms":http://phillytodo.com/profile/GreensgrowFarms
END:VEVENT
END:VCALENDAR
