BEGIN:VCALENDAR
PRODID:NingEventWidget-v1
VERSION:2.0
METHOD:PUBLISH
BEGIN:VEVENT
UID:4320450:Event:46621
DTSTAMP:20260425T125011Z
SUMMARY:Community Garden Days
DESCRIPTION:This year Community Garden Days are September 10 & 11. You
  can participate at Greensgrow Farms or Greensgrow West! Come out this
  fall weekend to get goods for your community garden. Community Garden
 ers will receive 10% off of purchases made for their community garden.
  Your garden must be preregistered to receive the discount at the time
  of purchase. Discount applies to nursery items only–produce and oth
 er food items are not included. - See more at: http://www.greensgrow.o
 rg/event/community-garden-days-13/2016-09-11/#sthash.LYLK1ouC.dpuf\n\n
 For more information visit http://phillytodo.com/events/community-gard
 en-days-1
DTSTART:20160910T130000Z
DTEND:20160911T210000Z
CATEGORIES:garden, sale
LOCATION:Greensgrow Farm
WEBSITE:http://www.greensgrow.org/event/community-garden-days-13/2016-
 09-11/
URL:http://www.greensgrow.org/event/community-garden-days-13/2016-09-1
 1/
CONTACT:(215) 427-2702
ORGANIZER;CN="Greensgrow Farms":http://phillytodo.com/profile/Greensgr
 owFarms
ATTACH;FMTTYPE="image/jpeg":http://storage.ning.com/topology/rest/1.0/
 file/get/3054995860?profile=original
ATTENDEE;ROLE=REQ-PARTICIPANT;PARTSTAT=ACCEPTED;RSVP=TRUE;CN="Greensgr
 ow Farms":http://phillytodo.com/profile/GreensgrowFarms
END:VEVENT
END:VCALENDAR
