BEGIN:VCALENDAR
PRODID:NingEventWidget-v1
VERSION:2.0
METHOD:PUBLISH
BEGIN:VEVENT
UID:4320450:Event:48430
DTSTAMP:20260425T142546Z
SUMMARY:Community: Gallery Opening
DESCRIPTION:We are proud to present Community, a gallery show celebrat
 ing the art work of Schuylkill Center members.  Community is a non-ju
 ried, salon-style exhibition, open to Schuylkill Center members, neigh
 bors, staff, and volunteers.  Featuring artists of any medium, style,
  theme, or concept, this show will create a portrait of our community,
  of a vibrant, diverse, and multifaceted community of makers.  Commun
 ity will reveal how people see nature in Philadelphia, and inspire eve
 ryone to connect with nature in their own way.\nFor details on submitt
 ing work to Community, please see here.\n\nFor more information visit 
 http://phillytodo.com/events/community-gallery-opening
DTSTART:20170126T230000Z
DTEND:20170127T010000Z
CATEGORIES:gallery, opening
LOCATION:Schuylkill Center for Environmental Education
WEBSITE:http://www.schuylkillcenter.org/blog/event/community-gallery-o
 pening/
URL:http://www.schuylkillcenter.org/blog/event/community-gallery-openi
 ng/
CONTACT:215-482-7300
ORGANIZER;CN="The Schuylkill Center":http://phillytodo.com/profile/Ann
 aLehrMueser
ATTACH;FMTTYPE="image/jpeg":
ATTENDEE;ROLE=REQ-PARTICIPANT;PARTSTAT=ACCEPTED;RSVP=TRUE;CN="The Schu
 ylkill Center":http://phillytodo.com/profile/AnnaLehrMueser
END:VEVENT
END:VCALENDAR
