BEGIN:VCALENDAR
PRODID:NingEventWidget-v1
VERSION:2.0
METHOD:PUBLISH
BEGIN:VEVENT
UID:4320450:Event:52016
DTSTAMP:20260425T131003Z
SUMMARY:Comedian Jim Breuer at Valley Forge Music Fair
DESCRIPTION:Valley Forge Casino Resort Music Fair (1160 First Avenue) 
 presents Jim Breuer for two shows, on Friday, August 25, 2017 at 7pm a
 nd 10pm in the Venue. Breuer is one of the most recognizable comedians
  in the business, known for his charismatic stage antics, dead-on impr
 essions, and family-friendly stand-up. After spending several years wo
 rking comedy clubs across the country, Breuer settled in as a regular 
 on the New York comedy club circuit, which eventually landed him a spo
 t on Saturday Night Live, and roles in popular films like “Zookeeper
 s” and “Beer League.” Don’t miss your chance to see the SNL Al
 um on his Family Warrior comedy tour. Doors open one hour before each 
 show. Overnight packages are available. Ticket prices range from $35-4
 0 and are on sale now at Ticketmaster.com.\n\nFor more information vis
 it http://phillytodo.com/events/comedian-jim-breuer-at-valley-forge-mu
 sic-fair-1
DTSTART:20170825T230000Z
DTEND:20170826T010000Z
CATEGORIES:stand, up, comedy, show
LOCATION:The Venue at Valley Forge Casino Resort
WEBSITE:https://www.vfcasino.com/events/jim-breuer-2/
URL:https://www.vfcasino.com/events/jim-breuer-2/
CONTACT:610-354-8222
ORGANIZER:Valley Forge Casino Resort
ATTACH;FMTTYPE="image/jpeg":http://storage.ning.com/topology/rest/1.0/
 file/get/3055004941?profile=original
ATTENDEE;ROLE=REQ-PARTICIPANT;PARTSTAT=ACCEPTED;RSVP=TRUE;CN="Aversa P
 R & Events":http://phillytodo.com/profile/KoryAversa277
END:VEVENT
END:VCALENDAR
