BEGIN:VCALENDAR
PRODID:NingEventWidget-v1
VERSION:2.0
METHOD:PUBLISH
BEGIN:VEVENT
UID:4320450:Event:41382
DTSTAMP:20260425T161350Z
SUMMARY:Comedian Artie Lange at Valley Forge Music Fair
DESCRIPTION:Comedic genius Artie Lange will perform at Valley Forge Ca
 sino Resort (1160 First Avenue) on Saturday, November 28, 2015, at 8:0
 0pm (doors open 7:00pm) during Valley Forge Music Fair. The former sta
 r from The Howard Stern Show and MadTV has appeared in feature films, 
 co-hosts a radio show, and even produced and starred in his own film. 
 Tickets are on sale as of today for $35-50 on Ticketmaster. Don't miss
  one of the most sought after live comedians in the business!\n\nFor m
 ore information visit http://phillytodo.com/events/comedian-artie-lang
 e-at-valley-forge-music-fair
DTSTART:20151129T010000Z
DTEND:20151129T040000Z
CATEGORIES:comedy, show
LOCATION:Valley Forge Casino Resort
WEBSITE:https://vfcasino.com/events/2572/
URL:https://vfcasino.com/events/2572/
CONTACT:610-354-8118
ORGANIZER;CN="Aversa PR & Events":http://phillytodo.com/profile/KoryAv
 ersa277
ATTACH;FMTTYPE="image/jpeg":http://storage.ning.com/topology/rest/1.0/
 file/get/3054987782?profile=original
ATTENDEE;ROLE=REQ-PARTICIPANT;PARTSTAT=ACCEPTED;RSVP=TRUE;CN="Aversa P
 R & Events":http://phillytodo.com/profile/KoryAversa277
END:VEVENT
END:VCALENDAR
