BEGIN:VCALENDAR
PRODID:NingEventWidget-v1
VERSION:2.0
METHOD:PUBLISH
BEGIN:VEVENT
UID:4320450:Event:1942
DTSTAMP:20260425T125759Z
SUMMARY:Come Check Out the PIG ROAST at RUNNING DEER GOLF CLUB!!**
DESCRIPTION:On Thursday, September 2nd enjoy a fresh PIG ROAST at Ron 
 Jaworski’s Running Deer Golf Club! Come out and experience our NEW h
 ickory wood-burning smoker and tailgate the EAGLES preseason game! Sta
 rting at 6:30p.m., enjoy a cookout on our patio next to our Fire Pit w
 ith games and contests too! The whole night for only $20 a person, don
 ’t miss out on this GREAT summer night!\n\nFor more information visi
 t http://phillytodo.com/events/come-check-out-the-pig-roast
DTSTART:20100902T223000Z
DTEND:20100903T030000Z
CATEGORIES:pig, roast
LOCATION:Running Deer Golf Club
WEBSITE:http://runningdeergolfclub.com/
URL:http://runningdeergolfclub.com/
CONTACT:
ORGANIZER:Neff Associates
ATTACH;FMTTYPE="image/jpeg":http://storage.ning.com/topology/rest/1.0/
 file/get/3054950119?profile=original
ATTENDEE;ROLE=REQ-PARTICIPANT;PARTSTAT=ACCEPTED;RSVP=TRUE;CN="Valerie 
 Bunsick":http://phillytodo.com/profile/ValerieBunsick
END:VEVENT
END:VCALENDAR
