BEGIN:VCALENDAR
PRODID:NingEventWidget-v1
VERSION:2.0
METHOD:PUBLISH
BEGIN:VEVENT
UID:4320450:Event:2053
DTSTAMP:20260425T161819Z
SUMMARY:Come check out AMONG THE OAK AND ASH with special guest CHRIS 
 RIFFLE at The Hankin Group’s Eagleview Town Center!!!*
DESCRIPTION:Come check out AMONG THE OAK AND ASH with special guest CH
 RIS RIFFLE at The Hankin Group’s Eagleview Town Center!!!*\n\nFor mo
 re information visit http://phillytodo.com/events/come-check-out-among
 -the-oak
DTSTART:20100824T230000Z
DTEND:20100825T010000Z
CATEGORIES:concert
LOCATION:Eagleview Town center
WEBSITE:http://www.hankingroup.com/CommercialCorpEagleview-Events.php
URL:http://www.hankingroup.com/CommercialCorpEagleview-Events.php
CONTACT:
ORGANIZER;CN="Valerie Bunsick":http://phillytodo.com/profile/ValerieBu
 nsick
ATTACH;FMTTYPE="image/jpeg":
ATTENDEE;ROLE=REQ-PARTICIPANT;PARTSTAT=ACCEPTED;RSVP=TRUE;CN="Valerie 
 Bunsick":http://phillytodo.com/profile/ValerieBunsick
END:VEVENT
END:VCALENDAR
