BEGIN:VCALENDAR
PRODID:NingEventWidget-v1
VERSION:2.0
METHOD:PUBLISH
BEGIN:VEVENT
UID:4320450:Event:46713
DTSTAMP:20260425T175527Z
SUMMARY:Colonial Politics: Patriot & Loyalist Tours
DESCRIPTION:Tour Woodford Mansion and learn about how the summer homes
  on the outer edges of the city functioned during the American Revolut
 ion. Stories are told through an expansive collection of historic ite
 ms and antiques. Come learn about how the former residents of Woodfor
 d Mansion fell on both sides of the war between the British and the Am
 erican patriots. Don’t miss this jewel of Philadelphia history, and
  discover how it helped shaped a city and a nation.\n\nFor more inform
 ation visit http://phillytodo.com/events/colonial-politics-patriot-loy
 alist-tours
DTSTART:20160628T140000Z
DTEND:20160703T200000Z
CATEGORIES:historical, tour
LOCATION:Woodford Mansion
WEBSITE:http://www.woodfordmansion.org/contact.php
URL:http://www.woodfordmansion.org/contact.php
CONTACT:(215) 229-6115
ORGANIZER;CN="Bryan Chan":http://phillytodo.com/profile/BryanChan
ATTACH;FMTTYPE="image/jpeg":http://storage.ning.com/topology/rest/1.0/
 file/get/3054995395?profile=original
ATTENDEE;ROLE=REQ-PARTICIPANT;PARTSTAT=ACCEPTED;RSVP=TRUE;CN="Bryan Ch
 an":http://phillytodo.com/profile/BryanChan
END:VEVENT
END:VCALENDAR
