BEGIN:VCALENDAR
PRODID:NingEventWidget-v1
VERSION:2.0
METHOD:PUBLISH
BEGIN:VEVENT
UID:4320450:Event:45220
DTSTAMP:20260425T144231Z
SUMMARY:Collecting in the New Economy:  Buying, Value, and Taste in th
 e Contemporary Art Market
DESCRIPTION:Join us for a conversation about buying and collecting art
  with guest speakers Meredith Hilferty, director of Fine Art Auctions 
 at the Rago Arts and Auction Center; Robert Morrison, art collector an
 d founder of the Project Group; and Ron Rumford, artist and Director o
 f Dolan/Maxwell Gallery. The discussion will be moderated by Rachel Zi
 mmerman, Executive Director of InLiquid. Open to the public and collec
 tors with all levels of experience, new collectors welcome.\n\nFor mor
 e information visit http://phillytodo.com/events/collecting-in-the-new
 -economy-buying-value-and-taste-in-the
DTSTART:20160122T230000Z
DTEND:20160126T010000Z
CATEGORIES:panel, discussion
LOCATION:Parke Town Place
WEBSITE:
URL:
CONTACT:215-235-3405
ORGANIZER;CN="InLiquid Studios":http://phillytodo.com/profile/InLiquid
 Studios
ATTACH;FMTTYPE="image/jpeg":http://storage.ning.com/topology/rest/1.0/
 file/get/3054993299?profile=original
ATTENDEE;ROLE=REQ-PARTICIPANT;PARTSTAT=ACCEPTED;RSVP=TRUE;CN="InLiquid
  Studios":http://phillytodo.com/profile/InLiquidStudios
END:VEVENT
END:VCALENDAR
