BEGIN:VCALENDAR
PRODID:NingEventWidget-v1
VERSION:2.0
METHOD:PUBLISH
BEGIN:VEVENT
UID:4320450:Event:170302
DTSTAMP:20260425T112921Z
SUMMARY:Co-là-breith sona dhuit*: Robert Smith's 300th Birthday Celeb
 ration!
DESCRIPTION:Join Carpenters’ Hall on January 14th to celebrate Rober
 t Smith’s 300th birthday! The Scottish architect, born in 1722,  bu
 ilt many famous landmarks across Philadelphia, including Carpenters’
  Hall. A Scottish-themed celebration will be held to honor the anniver
 sary of his birth, with special guest Chris Thomson, Counsellor with t
 he Scottish Government USA, and Bruce Laverty, an architecture curator
  at the Anthenaeum of Philadelphia. They’ll discuss Smith’s impact
  and life as visitors can enjoy some Scottish music, dancing, and whis
 ky! The purchase of a ticket also includes a complimentary copy of the
  illustrated coffee-table book Robert Smith: Architect, Builder, Patri
 ot 1722-1777 by Charles Peterson.\n\nFor more information visit http:/
 /phillytodo.com/events/co-l-breith-sona-dhuit-robert-smith-s-300th-bir
 thday-celebration
DTSTART:20220114T223000Z
DTEND:20220115T003000Z
CATEGORIES:birthday, party
LOCATION:Carpenters' Hall
WEBSITE:https://www.carpentershall.org/events
URL:https://www.carpentershall.org/events
CONTACT:215-925-0167
ORGANIZER:En Route Marketing
ATTACH;FMTTYPE="image/jpeg":https://storage.ning.com/topology/rest/1.0
 /file/get/9920510272?profile=original
ATTENDEE;ROLE=REQ-PARTICIPANT;PARTSTAT=ACCEPTED;RSVP=TRUE;CN="Bryan Ch
 an":http://phillytodo.com/profile/BryanChan
END:VEVENT
END:VCALENDAR
