BEGIN:VCALENDAR
PRODID:NingEventWidget-v1
VERSION:2.0
METHOD:PUBLISH
BEGIN:VEVENT
UID:4320450:Event:171330
DTSTAMP:20260425T110856Z
SUMMARY:Clyde's
DESCRIPTION:Just outside of Reading, PA, a truck stop sandwich shop of
 fers its formerly incarcerated kitchen staff a shot at redemption as t
 hey find purpose and inspiration in their shared quest to create the 
 perfect sandwich.  The regional premiere of the TONY-nominated play b
 y Pulitzer Prize-winning playwright Lynn Nottage.\n\nFor more informat
 ion visit http://phillytodo.com/events/clyde-s
DTSTART:20230127T000000Z
DTEND:20230306T013000Z
CATEGORIES:theatre
LOCATION:Arden Theatre Company
WEBSITE:https://ardentheatre.org/production/clydes/
URL:https://ardentheatre.org/production/clydes/
CONTACT:215.922.1122
ORGANIZER;CN="Arden Theatre Company":http://phillytodo.com/profile/Ard
 enTheatreCompany
ATTACH;FMTTYPE="image/jpeg":https://storage.ning.com/topology/rest/1.0
 /file/get/10921858299?profile=original
ATTENDEE;ROLE=REQ-PARTICIPANT;PARTSTAT=ACCEPTED;RSVP=TRUE;CN="Arden Th
 eatre Company":http://phillytodo.com/profile/ArdenTheatreCompany
END:VEVENT
END:VCALENDAR
