BEGIN:VCALENDAR
PRODID:NingEventWidget-v1
VERSION:2.0
METHOD:PUBLISH
BEGIN:VEVENT
UID:4320450:Event:168631
DTSTAMP:20260425T112444Z
SUMMARY:Clay Fest 2021
DESCRIPTION:Celebrate clay and community at Clay Fest 2021, a fun day 
 of muddy festivities hosted by The Clay Studio at its soon-to-be new h
 ome in South Kensington. This year’s event offers exciting, family-f
 riendly entertainment, including several hands-on clay activities, scr
 een printing, wheel throwing battles, and artist demonstrations. Atten
 dees can also look forward to yoga, face painting, and an ice cream so
 cial or check out special projects from notable artists Cesar Viveros 
 and George Rodriguez. Clay Fest 2021 is sponsored by PNC Arts Alive.\n
 \nFor more information visit http://phillytodo.com/events/clay-fest-20
 21
DTSTART:20210918T160000Z
DTEND:20210918T220000Z
CATEGORIES:festival
LOCATION:The Clay Studio
WEBSITE:https://www.theclaystudio.org/events/clay-fest
URL:https://www.theclaystudio.org/events/clay-fest
CONTACT:215-925-3453
ORGANIZER:The Clay Studio
ATTACH;FMTTYPE="image/jpeg":https://storage.ning.com/topology/rest/1.0
 /file/get/9546623273?profile=original
ATTENDEE;ROLE=REQ-PARTICIPANT;PARTSTAT=ACCEPTED;RSVP=TRUE;CN="Bryan Ch
 an":http://phillytodo.com/profile/BryanChan
END:VEVENT
END:VCALENDAR
