BEGIN:VCALENDAR
PRODID:NingEventWidget-v1
VERSION:2.0
METHOD:PUBLISH
BEGIN:VEVENT
UID:4320450:Event:36895
DTSTAMP:20260425T144301Z
SUMMARY:Clay Bee Making Workshop
DESCRIPTION:Help artists create a swarm of ceramic bees. Make a few be
 es of your own and learn how you can help us monitor our native poll
 inator population in the process. This LandLab residency focuses on t
 he importance of the reciprocal relationships between honeybees, nati
 ve bee-pollinated plants, and humans.\nCome back for the Great Americ
 an Backyard Campout on June 28, when we’ll fire the bees in a bonfi
 re.\nLet us know if you’re coming!\n\nFor more information visit ht
 tp://phillytodo.com/events/clay-bee-making-workshop
DTSTART:20140614T150000Z
DTEND:20140614T170000Z
CATEGORIES:art, workshop
LOCATION:The Schuylkill Center for Environmental Education
WEBSITE:http://www.schuylkillcenter.org/
URL:http://www.schuylkillcenter.org/
CONTACT:215-482-7300
ORGANIZER;CN="The Schuylkill Center":http://phillytodo.com/profile/Ann
 aLehrMueser
ATTACH;FMTTYPE="image/jpeg":http://storage.ning.com/topology/rest/1.0/
 file/get/3054979615?profile=original
ATTENDEE;ROLE=REQ-PARTICIPANT;PARTSTAT=ACCEPTED;RSVP=TRUE;CN="The Schu
 ylkill Center":http://phillytodo.com/profile/AnnaLehrMueser
END:VEVENT
END:VCALENDAR
