BEGIN:VCALENDAR
PRODID:NingEventWidget-v1
VERSION:2.0
METHOD:PUBLISH
BEGIN:VEVENT
UID:4320450:Event:42805
DTSTAMP:20260425T115031Z
SUMMARY:Classical Arab Music & Poetry
DESCRIPTION:A concert by Al-Bustan Takht Ensemble with poetry reading 
 by Ahmad Almallah\nAn afternoon of music with poetry selected from the
  Andalusian muwashshah and Golden Age of Arab music.\n \nAl-Bustan 
 Takht Ensemble formed in 2009 as an initiative of Al-Bustan Seeds of 
 Culture, under the direction of Music Director Hanna Khoury. The Ensem
 ble includes virtuoso musicians immersed in classical Arab music. All 
 renowned musicians in their own right, three members of the ensemble a
 re recipients of the prestigious Pew Fellowship for the Arts. Their in
 dividual experience crosses decades and continents, and includes touri
 ng and recording with prominent orchestras from both Western and Arab 
 musical traditions; collaborating with iconic musicians from Marcel Kh
 alife and Fairouz to Sting and Shakira. The Ensemble represents the fi
 nest practitioners and scholars of both Western and Arab musical tradi
 tion: Music Director Hanna Khoury (violin), Kinan Abou-Afach (cell
 o/composer), Hicham Chami (qanun), Hafez Kotain (percussion).\n\nF
 or more information visit http://phillytodo.com/events/classical-arab-
 music-poetry
DTSTART:20151013T220000Z
DTEND:20151013T230000Z
CATEGORIES:concert, "&", poetry
LOCATION:Trinity Center for Urban Life
WEBSITE:http://albustanseeds.org/digital/wordsadorned/events/classical
 -arab-music-and-poetry-reading/
URL:http://albustanseeds.org/digital/wordsadorned/events/classical-ara
 b-music-and-poetry-reading/
CONTACT:
ORGANIZER;CN="Al-Bustan Seeds of Culture":http://phillytodo.com/profil
 e/AlBustanSeedsofCulture
ATTACH;FMTTYPE="image/jpeg":http://storage.ning.com/topology/rest/1.0/
 file/get/3054990130?profile=original
ATTENDEE;ROLE=REQ-PARTICIPANT;PARTSTAT=ACCEPTED;RSVP=TRUE;CN="Al-Busta
 n Seeds of Culture":http://phillytodo.com/profile/AlBustanSeedsofCultu
 re
END:VEVENT
END:VCALENDAR
