BEGIN:VCALENDAR
PRODID:NingEventWidget-v1
VERSION:2.0
METHOD:PUBLISH
BEGIN:VEVENT
UID:4320450:Event:144378
DTSTAMP:20260425T160753Z
SUMMARY:Clarissa Eck: Moonlit Lives
DESCRIPTION:“Moonlit Lives” is a new exhibition on display at The 
 Clay Studio featuring works by Clarissa Eck. An artist known for her d
 etailed, spiritual art, Eck’s pottery typically depicts intricate an
 imal forms and is rich with hermetic symbolism. Her solo exhibition fe
 atures works that seek to connect our spirits with their animal and pl
 ant relatives; bridging the gap between human and nature, tame and wil
 d. As the artist states, “The work I make seeks to reunite the human
  spirit with what we innately know - the experience of presence and jo
 y as understood through the natural world.”  This exhibition will b
 e on display at The Clay Studio’s Gallery from February 6 to Februar
 y 28, 2021.\n\nFor more information visit http://phillytodo.com/events
 /clarissa-eck-moonlit-lives
DTSTART:20210206T160000Z
DTEND:20210228T230000Z
CATEGORIES:art, gallery, exhibition
LOCATION:The Clay Studio
WEBSITE:https://www.theclaystudio.org/exhibitions/clarissa-eck-moonlit
 -lives
URL:https://www.theclaystudio.org/exhibitions/clarissa-eck-moonlit-liv
 es
CONTACT:(215) 925-3453 x 23
ORGANIZER:Jennifer Zwilling
ATTACH;FMTTYPE="image/jpeg":https://storage.ning.com/topology/rest/1.0
 /file/get/8490836458?profile=original
ATTENDEE;ROLE=REQ-PARTICIPANT;PARTSTAT=ACCEPTED;RSVP=TRUE;CN="Bryan Ch
 an":http://phillytodo.com/profile/BryanChan
END:VEVENT
END:VCALENDAR
