BEGIN:VCALENDAR
PRODID:NingEventWidget-v1
VERSION:2.0
METHOD:PUBLISH
BEGIN:VEVENT
UID:4320450:Event:52826
DTSTAMP:20260425T143000Z
SUMMARY:City Tap House University City
DESCRIPTION:City Tap House, Philadelphia’s go-to destination for cra
 ft beer, is celebrating Oktoberfest with a Sam Adams Stein Hoisting C
 ompetition on September 29th at City Tap House University City, and
  October 16th at City Tap House Logan Square. Both events will begin
  at 5pm, featuring Oktoberfest-inspired fare, Sam Adams’ OctoberFest
 , and a Stein Hoisting Competition! Guests can get their German fare f
 ix with dishes such as the German Sausage Sampler, chock-full of knock
 wurst, kielbasa, and bratwurst; Potato Pancakes, served with a side of
  apple compote and toppeCid with a savory chive crème fraiche; and Be
 er Braised Pork and Sauerkraut Fritters. Bartenders will be pouring Sa
 m Adams’ OctoberFest all night, and guests can flex their beer muscl
 es in a Stein Hoisting Competition, starting at 6:30 pm. The winner wi
 ll receive a City Tap House gift card!\n\nFor more information visit h
 ttp://phillytodo.com/events/city-tap-house-university-city
DTSTART:20170929T210000Z
DTEND:20170930T060000Z
CATEGORIES:oktoberfest
LOCATION:City Tap House
WEBSITE:http://www.ucity.citytap.com/
URL:http://www.ucity.citytap.com/
CONTACT:215.662.0105
ORGANIZER:City Tap House
ATTACH;FMTTYPE="image/jpeg":
ATTENDEE;ROLE=REQ-PARTICIPANT;PARTSTAT=ACCEPTED;RSVP=TRUE;CN="Punch Me
 dia":http://phillytodo.com/profile/PunchMedia
END:VEVENT
END:VCALENDAR
