BEGIN:VCALENDAR
PRODID:NingEventWidget-v1
VERSION:2.0
METHOD:PUBLISH
BEGIN:VEVENT
UID:4320450:Event:52838
DTSTAMP:20260425T143436Z
SUMMARY:City Tap House University City's Pumpkin Smash with Dogfish He
 ad!
DESCRIPTION:The celebration includes a 200lb pumpkin firkin filled wit
 h Dogfish Head’s Punkin. Guests will enjoy over 25 pumpkin beers on 
 tap including 2SP’s Imperial Pumpkins, Breckenridge’s Nitro Pumpki
 n Spice Latte and Troegs’ Master of Pumpkins; there will be a brunch
  menu chockful of delicious pumpkin-themed fare AND a pumpkin pie eati
 ng contest.\nCity Tap House has also teamed up with Morris Animal Refu
 ge to help find every dog in this city a loving home by donating 50 pe
 rcent of ticket sales towards Morris Animal Refuge. Guests are welcome
  to bring their dogs, AND dress them up in the cutest costumes they ca
 n find for a chance to win a $50 City Tap House gift card, winner anno
 unced during Eagles halftime.\nAlthough tickets are not required to en
 joy the array of pumpkin beers, City Tap House is providing specialty 
 glasses and one complimentary pour of Dogfish Head’s Punkin from its
  200lb pumpkin cask with the purchase of a $10 ticket. Tickets can be 
 purchased here: https://taphouseucityticketleap.ticketleap.com/pumpki
 n-smash-2017/dates/Oct-08-2017_at_1100AM\n\n\n\n\nFor more information
  visit http://phillytodo.com/events/city-tap-house-university-city-s-p
 umpkin-smash-with-dogfish-head
DTSTART:20171008T150000Z
DTEND:20171009T033000Z
CATEGORIES:oktoberfest
LOCATION:City Tap House University City
WEBSITE:http://www.ucity.citytap.com/
URL:http://www.ucity.citytap.com/
CONTACT:215.662.0105
ORGANIZER:City Tap House University City
ATTACH;FMTTYPE="image/jpeg":http://storage.ning.com/topology/rest/1.0/
 file/get/3055009999?profile=original
ATTENDEE;ROLE=REQ-PARTICIPANT;PARTSTAT=ACCEPTED;RSVP=TRUE;CN="Punch Me
 dia":http://phillytodo.com/profile/PunchMedia
END:VEVENT
END:VCALENDAR
