BEGIN:VCALENDAR
PRODID:NingEventWidget-v1
VERSION:2.0
METHOD:PUBLISH
BEGIN:VEVENT
UID:4320450:Event:38605
DTSTAMP:20260425T155845Z
SUMMARY:City Social at the Philadelphia History Museum
DESCRIPTION:The Philadelphia History Museum celebrates Philadelphia ne
 ighborhoods with its inaugural City Social honoring Mayor Michael Nutt
 er and First Lady Lisa Nutter.  Embark on an epicurean journey highli
 ghting cuisines from the Italian Market to Chinatown, and sip fine win
 e and locally crafted spirits and brews at the newly renovated and reb
 randed Philadelphia History Museum.\n\nFor more information visit http
 ://phillytodo.com/events/city-social-at-the-philadelphia-history-museu
 m
DTSTART:20141014T213000Z
DTEND:20141015T003000Z
CATEGORIES:"special event"
LOCATION:Philadelphia History Museum
WEBSITE:http://www.philadelphiahistory.org/citysocial
URL:http://www.philadelphiahistory.org/citysocial
CONTACT:215-627-1060
ORGANIZER:Philadelphia History Museum
ATTACH;FMTTYPE="image/jpeg":http://storage.ning.com/topology/rest/1.0/
 file/get/3054981232?profile=original
ATTENDEE;ROLE=REQ-PARTICIPANT;PARTSTAT=ACCEPTED;RSVP=TRUE;CN=CashmanAs
 soc:http://phillytodo.com/profile/CashmanAssoc
END:VEVENT
END:VCALENDAR
