BEGIN:VCALENDAR
PRODID:NingEventWidget-v1
VERSION:2.0
METHOD:PUBLISH
BEGIN:VEVENT
UID:4320450:Event:33899
DTSTAMP:20260425T203416Z
SUMMARY:City of Hope's HopeCuts 2013
DESCRIPTION:Over 100 top salons and spas in Philadelphia and the Mid-A
 tlantic region will donate their time, services and 100% of their dail
 y proceeds for the 18th annual “HopeCuts” event to benefit City o
 f Hope.  On Sunday, September 15, 2013 (or an alternative date selec
 ted by salons), staff come in on their day off and volunteer their ti
 me to help cut out cancer, HIV/AIDS and other life-threatening illness
 es. HopeCuts events and promotions will vary by salon, but may include
  specially priced services, entertainment, refreshments, raffle prizes
  and more.  For a full listing of participating salons, please visit
 www.hopecuts.org. For more information about City of Hope, please cal
 l 1-800-344-8169, email hgiordano@coh.org or visit www.cityofhope.
 org. \nAbout City of Hope\nThis year also marks the centennial annive
 rsary of City of Hope, and they have proudly met this celebratory mile
 stone by making break-through advances in the following areas: Type 1 
 Diabetes, Cancer Immunotherapy Platform, developed a pioneering cancer
  drug, COH29 and T Cell Immunotherapy. The work conducted at City of 
 Hope is shared with medical centers worldwide, touching the lives of m
 illions of people everywhere. \nThe City of Hope National Medical Cen
 ter and Beckman Research Institute is a National Cancer Institute-desi
 gnated Comprehensive Cancer Center and has been named one of the Top 2
 5 Cancer Hospitals in U.S. News and World Report.  For more informat
 ion about how you can support City of Hope’s lifesaving research and
  treatment programs, please call 1-800-260-HOPE, or visit the Web site
  at www.cityofhope.org.  City of Hope, Where the Power of Knowledge
  Saves Lives™.\n\nFor more information visit http://phillytodo.com/e
 vents/city-of-hope-s-hopecuts-2013
DTSTART:20130915T160000Z
DTEND:20130915T200000Z
CATEGORIES:fundraiser, haircuts
LOCATION:City of Hope
WEBSITE:http://www.hopecuts.org
URL:http://www.hopecuts.org
CONTACT:215-840-9216
ORGANIZER;CN="Aversa PR & Events":http://phillytodo.com/profile/KoryAv
 ersa277
ATTACH;FMTTYPE="image/jpeg":http://storage.ning.com/topology/rest/1.0/
 file/get/3054967308?profile=original
ATTENDEE;ROLE=REQ-PARTICIPANT;PARTSTAT=ACCEPTED;RSVP=TRUE;CN="Aversa P
 R & Events":http://phillytodo.com/profile/KoryAversa277
END:VEVENT
END:VCALENDAR
