BEGIN:VCALENDAR
PRODID:NingEventWidget-v1
VERSION:2.0
METHOD:PUBLISH
BEGIN:VEVENT
UID:4320450:Event:38240
DTSTAMP:20260425T175915Z
SUMMARY:City of Hope Philadelphia Women's Cancer Walk
DESCRIPTION:One in three women will be diagnosed with cancer in her li
 fetime. On Saturday, September 13, 2014, this reality will unite survi
 vors and supporters during the Women’s Cancer Walk by City of Hope P
 hiladelphia. Look for a parade of purple and listen for the outpouring
  of hope as walkers travel from Campbell’s Field  (401 Delaware Ave
 , Camden), across the Benjamin Franklin Bridge, to the Arch Street Mee
 ting House (320 Arch St, Philadelphia). Registration opens at 8:00am, 
 and the walk starts at 10:00am.\n \nComplimentary parking is availabl
 e at Campbell’s Field starting at 8:00am. Walkers also take a free s
 huttle to and from the Field at 4th and Arch Street.\n \nWomen’s Ca
 ncer Walk is organized by City of Hope Philadelphia with support from 
 platinum sponsors Sweat Fitness and the Old City District.\n \nRegist
 ration is $25 for adults and $15 for children at www.womenscancerwalk.
 org.  For more information, call 800-344-8169 toll free (or 215-985-0
 869), follow @CityofHopePhila on Twitter and like City of Hope Philade
 lphia Office on Facebook. \n\nFor more information visit http://phill
 ytodo.com/events/city-of-hope-philadelphia-women-s-cancer-walk
DTSTART:20140913T120000Z
DTEND:20140913T170000Z
CATEGORIES:cancer, walk, fundraiser
LOCATION:Campbell's Field
WEBSITE:
URL:
CONTACT:
ORGANIZER:
ATTACH;FMTTYPE="image/jpeg":http://storage.ning.com/topology/rest/1.0/
 file/get/3054980195?profile=original
ATTENDEE;ROLE=REQ-PARTICIPANT;PARTSTAT=ACCEPTED;RSVP=TRUE;CN="Aversa P
 R & Events":http://phillytodo.com/profile/KoryAversa277
END:VEVENT
END:VCALENDAR
