BEGIN:VCALENDAR
PRODID:NingEventWidget-v1
VERSION:2.0
METHOD:PUBLISH
BEGIN:VEVENT
UID:4320450:Event:2441
DTSTAMP:20260425T172928Z
SUMMARY:City Food Tours: Taste of Northern Liberties
DESCRIPTION:Eat your way through Northern Liberties, Philly’s most c
 utting-edge neighborhood, on City Food Tours’ newest dining adventur
 e. This 2.5-hour tour includes tasty treats at 5 fantastic hotspots, s
 erved up with a generous helping of humor and a side of neighborhood h
 istory. Your fun and entertaining guide will introduce you to the area
 ’s dining and cultural highlights, including the East Coast’s larg
 est privately-owned public park, the Piazza at Schmidt’s, Liberties 
 Walk and more. The Northern Liberties Tour is offered every Saturday &
  Sunday from 1:30 p.m.-4 p.m. Advance tickets (just $44) are required;
  call 800-979-3370 or visit www.cityfoodtours.com.\n\nFor more informa
 tion visit http://phillytodo.com/events/city-food-tours-taste-of
DTSTART:20100925T173000Z
DTEND:20100925T200000Z
CATEGORIES:tour
LOCATION:Northern Liberties
WEBSITE:http://www.cityfoodtours.com
URL:http://www.cityfoodtours.com
CONTACT:(800)979-3370
ORGANIZER;CN="Robert Weinberg":http://phillytodo.com/profile/RobertWei
 nberg
ATTACH;FMTTYPE="image/jpeg":http://storage.ning.com/topology/rest/1.0/
 file/get/3054950384?profile=original
ATTENDEE;ROLE=REQ-PARTICIPANT;PARTSTAT=ACCEPTED;RSVP=TRUE;CN="Robert W
 einberg":http://phillytodo.com/profile/RobertWeinberg
END:VEVENT
END:VCALENDAR
