BEGIN:VCALENDAR
PRODID:NingEventWidget-v1
VERSION:2.0
METHOD:PUBLISH
BEGIN:VEVENT
UID:4320450:Event:25028
DTSTAMP:20260425T161553Z
SUMMARY:City Food Tours: St. Patty's Beer and Cheese Tasting
DESCRIPTION:Tired of the same old St. Patrick's tradition of standing 
 around a crowded bar slogging your way through cheap beer specials? He
 re's a truly distinctive and delicious alternative. Join us for a fun 
 and entertaining beer and cheese tasting that will knock the moss righ
 t off your Blarney Stone! This 2-hour event, held in a private room at
  Old City's popular Triumph Brewing Company, features generous samples
  of 8 stellar draughts brewed on-site--including some of Triumph's lim
 ited-time St. Patty's beers. You'll also savor hearty portions of 4 su
 mptuous farmstead cheeses including unique Irish-inspired varieties.\n
 This event is SO much more than a tasting!\n\nEric Matzke (one of the 
 owners of City Food Tours) will share some fun facts about how micro-b
 rewed beers and farmstead cheeses are made, and some of the quirky sto
 ries behind each brew and cheese you taste.\nYou'll taste and smell a 
 variety of malted barley and hops, to get a feel for the character the
 y add to different beer styles.\nWe'll share some tales about the love
  affair between the Irish and their beer.\nYou'll walk away with great
  tips on pairing cheese with beer, and the confidence to conquer any c
 heese shop and craft beer spot.\nAfter the tasting ends, you can enjoy
  dinner at Triumph Brewing Company and get 15% off your bill.\n\nThe e
 ntire event will take place in a private room at Triumph Brewing Compa
 ny in Old City. Participants must be 21 or older. Advance registration
  required.\n\n\nFor more information visit http://phillytodo.com/event
 s/city-food-tours-st-patty-s-beer-and-cheese-tasting
DTSTART:20120317T193000Z
DTEND:20120317T213000Z
CATEGORIES:beer, and, cheese, tasting
LOCATION:Triumph Brewing Company
WEBSITE:http://www.cityfoodtours.com/philadelphia/st._pattys.html
URL:http://www.cityfoodtours.com/philadelphia/st._pattys.html
CONTACT:2155461234
ORGANIZER;CN="Robert Weinberg":http://phillytodo.com/profile/RobertWei
 nberg
ATTACH;FMTTYPE="image/jpeg":
ATTENDEE;ROLE=REQ-PARTICIPANT;PARTSTAT=ACCEPTED;RSVP=TRUE;CN="Robert W
 einberg":http://phillytodo.com/profile/RobertWeinberg
END:VEVENT
END:VCALENDAR
