BEGIN:VCALENDAR
PRODID:NingEventWidget-v1
VERSION:2.0
METHOD:PUBLISH
BEGIN:VEVENT
UID:4320450:Event:2432
DTSTAMP:20260425T161056Z
SUMMARY:City Food Tours: Evening of Indulgence
DESCRIPTION:Join City Food Tours for a unique and unforgettable three-
 course dinner at three premier Philly dining destinations! Your City F
 ood Tours adventure begins at one of the city’s best Brazilian steak
 houses with a demonstration and tasting of 3 festive, traditional Braz
 ilian drinks. After a short walk, you’ll enjoy a sumptuous entrée a
 t a beautiful restaurant near Rittenhouse Square. For the grand finale
 , savor a decadent array of 3 individual French pastries and desserts!
  Perfect for sharing with friends, family or your significant other. A
 ll participants must be at least 21 years old. The Evening of Indulgen
 ce Tour is offered every Friday. Advanced tickets (just\n$75) are requ
 ired; call 800-979-3370 or visit www.cityfoodtours.com.\n\nFor more in
 formation visit http://phillytodo.com/events/city-food-tours-evening-o
 f
DTSTART:20100924T223000Z
DTEND:20100925T013000Z
CATEGORIES:tour
LOCATION:Center City Philadelphia
WEBSITE:http://www.cityfoodtours.com
URL:http://www.cityfoodtours.com
CONTACT:(800)-979-3370
ORGANIZER;CN="Robert Weinberg":http://phillytodo.com/profile/RobertWei
 nberg
ATTACH;FMTTYPE="image/jpeg":http://storage.ning.com/topology/rest/1.0/
 file/get/3054950445?profile=original
ATTENDEE;ROLE=REQ-PARTICIPANT;PARTSTAT=ACCEPTED;RSVP=TRUE;CN="Robert W
 einberg":http://phillytodo.com/profile/RobertWeinberg
END:VEVENT
END:VCALENDAR
